BEGIN:VCALENDAR
VERSION:2.0
PRODID:-//CoopAZ - ECPv6.5.1.6//NONSGML v1.0//EN
CALSCALE:GREGORIAN
METHOD:PUBLISH
X-ORIGINAL-URL:https://coopaz.com.br
X-WR-CALDESC:Eventos para CoopAZ
REFRESH-INTERVAL;VALUE=DURATION:PT1H
X-Robots-Tag:noindex
X-PUBLISHED-TTL:PT1H
BEGIN:VTIMEZONE
TZID:America/Sao_Paulo
BEGIN:STANDARD
TZOFFSETFROM:-0300
TZOFFSETTO:-0300
TZNAME:-03
DTSTART:20230101T000000
END:STANDARD
END:VTIMEZONE
BEGIN:VEVENT
DTSTART;VALUE=DATE:20230906
DTEND;VALUE=DATE:20230907
DTSTAMP:20260419T161211
CREATED:20230710T205737Z
LAST-MODIFIED:20230710T205737Z
UID:10000002-1693958400-1694044799@coopaz.com.br
SUMMARY:06 de Setembro
DESCRIPTION:Expediente até as 14h
URL:https://coopaz.com.br/evento/06-de-setembro/
CATEGORIES:Feriados
END:VEVENT
BEGIN:VEVENT
DTSTART;VALUE=DATE:20230907
DTEND;VALUE=DATE:20230908
DTSTAMP:20260419T161211
CREATED:20230710T205817Z
LAST-MODIFIED:20230710T205817Z
UID:10000003-1694044800-1694131199@coopaz.com.br
SUMMARY:07 de Setembro
DESCRIPTION:Feriado\, não haverá expediente – Independência do Brasil
URL:https://coopaz.com.br/evento/07-de-setembro/
CATEGORIES:Feriados
END:VEVENT
BEGIN:VEVENT
DTSTART;VALUE=DATE:20230908
DTEND;VALUE=DATE:20230909
DTSTAMP:20260419T161211
CREATED:20230710T205901Z
LAST-MODIFIED:20230710T205901Z
UID:10000004-1694131200-1694217599@coopaz.com.br
SUMMARY:08 de Setembro
DESCRIPTION:Feriado\, não haverá expediente – N. S. Mont Serrat
URL:https://coopaz.com.br/evento/08-de-setembro/
CATEGORIES:Feriados
END:VEVENT
END:VCALENDAR